BEGIN:VCALENDAR
VERSION:2.0
PRODID:-//WKDZ - ECPv5.6.0//NONSGML v1.0//EN
CALSCALE:GREGORIAN
METHOD:PUBLISH
X-WR-CALNAME:WKDZ
X-ORIGINAL-URL:https://www.wkdzradio.com
X-WR-CALDESC:Events for WKDZ
BEGIN:VTIMEZONE
TZID:America/Chicago
BEGIN:DAYLIGHT
TZOFFSETFROM:-0600
TZOFFSETTO:-0500
TZNAME:CDT
DTSTART:20210314T080000
END:DAYLIGHT
BEGIN:STANDARD
TZOFFSETFROM:-0500
TZOFFSETTO:-0600
TZNAME:CST
DTSTART:20211107T070000
END:STANDARD
END:VTIMEZONE
BEGIN:VEVENT
DTSTART;TZID=America/Chicago:20210630T173000
DTEND;TZID=America/Chicago:20210630T190000
DTSTAMP:20260422T153235
CREATED:20210630T185648Z
LAST-MODIFIED:20210630T185648Z
UID:157897-1625074200-1625079600@www.wkdzradio.com
SUMMARY:ONEWAY ON WEDNESDAY!
DESCRIPTION:HEY PEOPLE! FOR THOSE IN GRADES 7-12!\n\n\nYou are invited! Come on out to BELMONT HILL!! It’s ONEWAY ON WEDNESDAY! Doors open at 5:30! FOOD\, FUN\, GAMES\, AND SMALL GROUPS! BRING A FRIEND! IT’S GONNA BE GOOD!!
URL:https://www.wkdzradio.com/event/oneway-on-wednesday/2021-06-30/
LOCATION:Job-Opening-002.jpg
CATEGORIES:Church News
ATTACH;FMTTYPE=image/jpeg:https://dehayf5mhw1h7.cloudfront.net/wp-content/uploads/sites/2352/2021/06/30185648/210312971_4095693100465923_5711185343720094433_n.jpg
END:VEVENT
END:VCALENDAR