BEGIN:VCALENDAR
VERSION:2.0
PRODID:-//WKDZ - ECPv5.6.0//NONSGML v1.0//EN
CALSCALE:GREGORIAN
METHOD:PUBLISH
X-WR-CALNAME:WKDZ
X-ORIGINAL-URL:https://www.wkdzradio.com
X-WR-CALDESC:Events for WKDZ
BEGIN:VTIMEZONE
TZID:America/Chicago
BEGIN:DAYLIGHT
TZOFFSETFROM:-0600
TZOFFSETTO:-0500
TZNAME:CDT
DTSTART:20230312T080000
END:DAYLIGHT
BEGIN:STANDARD
TZOFFSETFROM:-0500
TZOFFSETTO:-0600
TZNAME:CST
DTSTART:20231105T070000
END:STANDARD
END:VTIMEZONE
BEGIN:VEVENT
DTSTART;VALUE=DATE:20230103
DTEND;VALUE=DATE:20230107
DTSTAMP:20260423T022612
CREATED:20230103T155059Z
LAST-MODIFIED:20230103T155059Z
UID:217772-1672704000-1673049599@www.wkdzradio.com
SUMMARY:Thank you!
DESCRIPTION:Genesis Express\, Inc. would like to express our heartfelt gratitude to all who donated to the Genesis Express Community Intergenerational Center Building Fund during 2022. With continued support we hope to finish the project by late spring/early summer. We also wish everyone a happy\, healthy and prosperous New Year!\nBlessings and Love in Christ\, the members of Genesis Express:\n \nGeorge Radford\, Bobby Acree\, Dexter Hopson\, John Ladd\, Jerry Wilson\, Michael Ladd\, Jonathan White\, Randolph Crenshaw\, Eugene Wilson\, Lewis Crenshaw\, Jock Bingham\, Billie Walker\, Fred Wilson\, and Jason Wilson.
URL:https://www.wkdzradio.com/event/thank-you/
END:VEVENT
BEGIN:VEVENT
DTSTART;TZID=America/Chicago:20230104T080000
DTEND;TZID=America/Chicago:20230105T170000
DTSTAMP:20260423T022612
CREATED:20230103T155851Z
LAST-MODIFIED:20230103T155851Z
UID:217775-1672819200-1672938000@www.wkdzradio.com
SUMMARY:
DESCRIPTION:Western Kentucky Regional Blood Center is in urgent need of blood types \nO positive and O negative.\n \nThe Center in Hopkinsville KY:\nWKRBC opens Wednesday\, January 4\, 2023\, from 8 am to 5 pm.\nWKRBC is open Thursday\, January 5\, 2023\, from 8 am to 5 pm.\n\nIf you are healthy and well please give blood!\n\nGuidelines for donating:\nDonors must be 17 years old or 16 years old with a parent consent form at wkrbc.org. Donors must weigh at least 115 pounds. Donors must check medications with staff and must allow 56 days between donations.\nDonors must present an ID.
URL:https://www.wkdzradio.com/event/217775/
CATEGORIES:Community Calendar
ATTACH;FMTTYPE=image/jpeg:https://dehayf5mhw1h7.cloudfront.net/wp-content/uploads/sites/2352/2020/03/26053514/WKRBC-Logo.jpg
END:VEVENT
BEGIN:VEVENT
DTSTART;TZID=America/Chicago:20230104T170000
DTEND;TZID=America/Chicago:20230104T180000
DTSTAMP:20260423T022612
CREATED:20230103T154541Z
LAST-MODIFIED:20230103T154541Z
UID:217753-1672851600-1672855200@www.wkdzradio.com
SUMMARY:HCCPL-Knitting Class
DESCRIPTION:HCCPL-Join the twice-a-month knitting class. Learn to create a bag while learning basic knitting techniques. Attendees are responsible for bringing their own 5mm needles and yarn to create the project.\nPlease call the library and ask for Becky if you have any questions.
URL:https://www.wkdzradio.com/event/knitting-class/2023-01-04/
CATEGORIES:Community Calendar
ATTACH;FMTTYPE=image/jpeg:https://dehayf5mhw1h7.cloudfront.net/wp-content/uploads/sites/2352/2023/01/03154541/302357205_6079408012083075_4897331125182698094_n.jpg
END:VEVENT
BEGIN:VEVENT
DTSTART;VALUE=DATE:20230105
DTEND;VALUE=DATE:20230106
DTSTAMP:20260423T022612
CREATED:20221227T130407Z
LAST-MODIFIED:20221227T130407Z
UID:217198-1672876800-1672963199@www.wkdzradio.com
SUMMARY:Digital Literacy Class
DESCRIPTION:Multiple dates are available. See schedule below \nHopkinsville-Christian County Public Library (HCCPL) will partner with Connected Nation & AT&T Kentucky to provide FREE digital literacy learning and educational programs at the library beginning January 5th\, 2023.\nThe digital literacy training will consist of 4 programs\, email basics\, mobile device basics\, internet basics and computer basics. These programs are geared toward all levels of expertise whether you are a novice or are interested in updating your skills in any of these areas.\nThis is a free program with limited availability. To sign up for the programs\, visit the link and choose the program(s) that you would like to participate.\nhttps://surveys.connectednation.org/s3/HCCPL\nThe programs are available:\n1/5/23 – Computer Basics @ 11\, Internet Basics @ 1\n1/23/23 – Email Basics @ 11\, Mobile Device Basics @ 1\n3/9/23 – Cybersecurity Basics @ 11\n3/20/23 –Computer Basics @ 11\, Internet Basics @1\n3/23/23 – Email Basics @ 11\, Mobile Device Basics @ 1 \n 
URL:https://www.wkdzradio.com/event/digital-literacy-class/
CATEGORIES:Community Calendar
ATTACH;FMTTYPE=image/png:https://dehayf5mhw1h7.cloudfront.net/wp-content/uploads/sites/2352/2019/05/26083210/HCCPL.png
END:VEVENT
BEGIN:VEVENT
DTSTART;TZID=America/Chicago:20230105T080000
DTEND;TZID=America/Chicago:20230105T170000
DTSTAMP:20260423T022612
CREATED:20230105T154610Z
LAST-MODIFIED:20230105T154610Z
UID:217997-1672905600-1672938000@www.wkdzradio.com
SUMMARY:Bald Eagle Tour
DESCRIPTION:Have you ever wanted to learn more about the bald eagles that winter in Land Between the Lakes? Sign up to take a guided tour with Woodlands Nature Station either on a cruise or a van tour. Call 270-924-2020 today to register.
URL:https://www.wkdzradio.com/event/bald-eagle-tour/
CATEGORIES:Community Calendar
ATTACH;FMTTYPE=image/jpeg:https://dehayf5mhw1h7.cloudfront.net/wp-content/uploads/sites/2352/2023/01/05154610/322367888_721397599217167_5267729396212732239_n.jpg
END:VEVENT
BEGIN:VEVENT
DTSTART;TZID=America/Chicago:20230106T150000
DTEND;TZID=America/Chicago:20230106T170000
DTSTAMP:20260423T022612
CREATED:20230104T121956Z
LAST-MODIFIED:20230104T121956Z
UID:217891-1673017200-1673024400@www.wkdzradio.com
SUMMARY:Retirement Celebration for Cecelia Hostilo
DESCRIPTION:
URL:https://www.wkdzradio.com/event/retirement-celebration-for-cecelia-hostilo/
CATEGORIES:Community Calendar
END:VEVENT
BEGIN:VEVENT
DTSTART;TZID=America/Chicago:20230108T140000
DTEND;TZID=America/Chicago:20230108T153000
DTSTAMP:20260423T022612
CREATED:20230104T122156Z
LAST-MODIFIED:20230104T122156Z
UID:217893-1673186400-1673191800@www.wkdzradio.com
SUMMARY:Anne P. Baker Gallery presents “Frenia: Art as Therapy”
DESCRIPTION:The Anne P. Baker Gallery presents “Frenia: Art as Therapy\,” paintings by Tommi Brasher and walking sticks by Nathaniel Brasher  \n\n\n  \nThe Anne P. Baker Gallery presents “Frenia: Art as Therapy.” The collection\, including 36 paintings by Tommi Brasher and 50 hand-carved walking sticks by Nathaniel Brasher\, will be on display from January 8 to February 19\, 2023. The community is invited to an opening reception for the exhibit on Sunday\, January 8\, from 2:00 p.m. to 3:30 p.m.  \n  \n\n\nTommi and Nathaniel Brasher have been married since 2015 and have three children. The Brashers love God and family\, and they pursue mutual interests such as art and time in nature. Tommi has been heavily involved in the arts since she was a child. She was diagnosed in her mid-thirties with schizophrenia and uses her artwork as one form of therapy. She is as passionate about her artwork as she is mental health awareness\, hence the name of the exhibit: “Frenia.” Nathaniel has always had a love for nature and feels it brings him closer to God. He enjoys its beauty expresses that in his one-of-a-kind walking sticks.  \n\n\n  \n\n\nThe Anne P. Baker Gallery is located inside the Glema Mahr Center for the Arts on the campus of Madisonville Community College. The gallery is open Monday through Friday\, 9 a.m. to 4 p.m.\, with extended hours on Glema Center event days. Gallery admission is free. For more information regarding this exhibit contact Liz Schweizer at 270-824-8650 or eschweizer0001@kctcs.edu.  
URL:https://www.wkdzradio.com/event/anne-p-baker-gallery-presents-frenia-art-as-therapy/
CATEGORIES:Community Calendar
ATTACH;FMTTYPE=image/jpeg:https://dehayf5mhw1h7.cloudfront.net/wp-content/uploads/sites/2352/2023/01/04122156/Frenia2-for-media.jpg
END:VEVENT
BEGIN:VEVENT
DTSTART;TZID=America/Chicago:20230108T150000
DTEND;TZID=America/Chicago:20230108T170000
DTSTAMP:20260423T022612
CREATED:20221227T131209Z
LAST-MODIFIED:20221227T131209Z
UID:217205-1673190000-1673197200@www.wkdzradio.com
SUMMARY:ELVIS (The Movie)
DESCRIPTION:January 8\, 2023 @ 3:00 pm\nAlhambra Theatre\n \nThe film explores the life and music of Elvis Presley (Austin Butler)\, seen through the prism of his complicated relationship with his enigmatic manager\, Colonel Tom Parker (Tom Hanks). The story delves into the complex dynamic between Presley and Parker spanning over 20 years\, from Presley’s rise to fame to his unprecedented stardom\, against the backdrop of the evolving cultural landscape and loss of innocence in America. Central to that journey is one of the most significant and influential people in Elvis’s life\, Priscilla Presley (Olivia DeJonge).
URL:https://www.wkdzradio.com/event/elvis-the-movie/
CATEGORIES:Community Calendar
END:VEVENT
BEGIN:VEVENT
DTSTART;TZID=America/Chicago:20230109T080000
DTEND;TZID=America/Chicago:20230109T170000
DTSTAMP:20260423T022612
CREATED:20230109T191652Z
LAST-MODIFIED:20230109T191652Z
UID:218405-1673251200-1673283600@www.wkdzradio.com
SUMMARY:January Shows at the Planetarium
DESCRIPTION:Start the new year by looking up at the night sky. Our January Sky Watch has important astronomical events you will not want to miss. Or stop by the planetarium to see a full dome show. Check out January’s schedule\, with all shows followed by a presentation of “Tonight’s Sky Live”.
URL:https://www.wkdzradio.com/event/january-shows-at-the-planetarium/
CATEGORIES:Community Calendar
ATTACH;FMTTYPE=image/jpeg:https://dehayf5mhw1h7.cloudfront.net/wp-content/uploads/sites/2352/2023/01/09191652/321516490_2444312622402922_1467458809507159412_n.jpg
END:VEVENT
BEGIN:VEVENT
DTSTART;TZID=America/Chicago:20230109T090000
DTEND;TZID=America/Chicago:20230109T230000
DTSTAMP:20260423T022612
CREATED:20230106T155456Z
LAST-MODIFIED:20230106T155456Z
UID:218117-1673254800-1673305200@www.wkdzradio.com
SUMMARY:2023 Legislative Roundtable
DESCRIPTION:Monday\, January 9th at 9 am\nMSU- Hopkinsville
URL:https://www.wkdzradio.com/event/2023-legislative-roundtable/
CATEGORIES:Community Calendar
ATTACH;FMTTYPE=image/png:https://dehayf5mhw1h7.cloudfront.net/wp-content/uploads/sites/2352/2023/01/06155456/MAC-LEG-Roundtable-e1673020486667.png
END:VEVENT
BEGIN:VEVENT
DTSTART;TZID=America/Chicago:20230109T170000
DTEND;TZID=America/Chicago:20230109T180000
DTSTAMP:20260423T022612
CREATED:20230103T154849Z
LAST-MODIFIED:20230103T154849Z
UID:217763-1673283600-1673287200@www.wkdzradio.com
SUMMARY:HCCPL-Knitting Class
DESCRIPTION:HCCPL-Join the twice-a-month knitting class. Learn to create a bag while learning basic knitting techniques. Attendees are responsible for bringing their own 5mm needles and yarn to create the project.\nPlease call the library and ask for Becky if you have any questions.
URL:https://www.wkdzradio.com/event/knitting-class-2/2023-01-09/
CATEGORIES:Community Calendar
ATTACH;FMTTYPE=image/jpeg:https://dehayf5mhw1h7.cloudfront.net/wp-content/uploads/sites/2352/2023/01/03154849/304856107_6120426941314515_4851791124291733862_n.jpg
END:VEVENT
BEGIN:VEVENT
DTSTART;TZID=America/Chicago:20230110T113000
DTEND;TZID=America/Chicago:20230110T130000
DTSTAMP:20260423T022612
CREATED:20221227T131449Z
LAST-MODIFIED:20221227T131449Z
UID:217208-1673350200-1673355600@www.wkdzradio.com
SUMMARY:Plan to Be Tobacco Free
DESCRIPTION:January 10\, 2023 @ 11:30 am – 12:30 pm CST\nFREE\nThe Christian County Health Department\, Community Medical Clinic and Kentucky Cancer Program have partnered together to offer a FREE session to provide you the resources to help you be successful in your tobacco quit.\nPlan to Be Tobacco Free has assisted thousands of Kentuckians to stop using tobacco. You will also receive FREE nicotine replacement therapy and help in creating a personalized quit plan that works for you!\nReservations Required!\nCall 270.632.6741 or 270.821.4298\nor email jamie.knight.lalouisville.edu
URL:https://www.wkdzradio.com/event/plan-to-be-tobacco-free/
CATEGORIES:Community Calendar
END:VEVENT
BEGIN:VEVENT
DTSTART;TZID=America/Chicago:20230110T120000
DTEND;TZID=America/Chicago:20230110T130000
DTSTAMP:20260423T022612
CREATED:20221227T124141Z
LAST-MODIFIED:20221227T124141Z
UID:217190-1673352000-1673355600@www.wkdzradio.com
SUMMARY:Mid Day With the Art Guild
DESCRIPTION:
URL:https://www.wkdzradio.com/event/mid-day-with-the-art-guild/
CATEGORIES:Community Calendar
ATTACH;FMTTYPE=image/jpeg:https://dehayf5mhw1h7.cloudfront.net/wp-content/uploads/sites/2352/2022/12/27124141/2ebd93b4-c654-c878-b27a-8c947d64e992.jpg
END:VEVENT
BEGIN:VEVENT
DTSTART;TZID=America/Chicago:20230110T173000
DTEND;TZID=America/Chicago:20230110T193000
DTSTAMP:20260423T022612
CREATED:20230106T155720Z
LAST-MODIFIED:20230106T155720Z
UID:218121-1673371800-1673379000@www.wkdzradio.com
SUMMARY:Volunteers Needed!
DESCRIPTION:Tuesday\, January 10th\nJoy Closet\nJoin HYPE to volunteer!
URL:https://www.wkdzradio.com/event/volunteers-needed-2/
CATEGORIES:Community Calendar
ATTACH;FMTTYPE=image/jpeg:https://dehayf5mhw1h7.cloudfront.net/wp-content/uploads/sites/2352/2023/01/06155720/322474243_1512348509276199_679008428781073898_n-e1673020632614.jpg
END:VEVENT
BEGIN:VEVENT
DTSTART;TZID=America/Chicago:20230110T183000
DTEND;TZID=America/Chicago:20230110T193000
DTSTAMP:20260423T022612
CREATED:20221227T123232Z
LAST-MODIFIED:20221227T123232Z
UID:217189-1673375400-1673379000@www.wkdzradio.com
SUMMARY:Little River Baptist Association New England Mission Trip 2023
DESCRIPTION:Little River Baptist Association New England Mission Trip 2023 (April 1-7\, 2023) Come to the New England area to share the Gospel of Jesus Christ! We will schedule another New England partnership meeting on Tuesday\, January 10th  at 6:30PM at the Little River Baptist center. If you came to the first information meeting\, it is not necessary to come to this meeting. However\, due to the fact that advanced planning is needed for work\, plane tickets and lodging\, as well as transportation… By February 1st\, 2023 • Each person planning on attending will need to fill out a registration form\, including (name as it appears on Driver’s License/Passport.) Registration forms are available at LRBA or by email.• $100 deposit to secure ticket/lodgeDeposit by Check only (preferably thru your home church)
URL:https://www.wkdzradio.com/event/little-river-baptist-association-new-england-mission-trip-2023/
CATEGORIES:Church News
END:VEVENT
BEGIN:VEVENT
DTSTART;TZID=America/Chicago:20230111T110000
DTEND;TZID=America/Chicago:20230111T130000
DTSTAMP:20260423T022612
CREATED:20230104T121839Z
LAST-MODIFIED:20230104T121839Z
UID:217846-1673434800-1673442000@www.wkdzradio.com
SUMMARY:Hopkinsville-Christian County Newcomers & Neighbors Lunch and Presentation by Kelly Jackson\, Christian County Extension Agent\, Master Gardener
DESCRIPTION:Hopkinsville-Christian County Newcomers & Neighbors January Luncheon and Presentation: Join us for lunch\, catered by the BBQ Shack ($10) and a presentation on the Master Gardener Program by Kelly Jackson\, Christian County Extension Agent.\nWednesday\, January 11\, 11 am – 1 pm\, Christian County Extension Office\, 2850 Pembroke Road. We’ll also be collecting coats\, scarves\, gloves & Hats for our neighbors at the Coffee Connection and the Salvation Army.\nPlease RSVP by January 7\, per the instructions in the newsletter found at HopkinsvilleNewcomers.org. New members are always welcome!
URL:https://www.wkdzradio.com/event/hopkinsville-christian-county-newcomers-neighbors-lunch-and-presentation-by-kelly-jackson-christian-county-extension-agent-master-gardener/
CATEGORIES:Community Calendar
ATTACH;FMTTYPE=image/png:https://dehayf5mhw1h7.cloudfront.net/wp-content/uploads/sites/2352/2023/01/04121839/Newcomer-logo.png
ORGANIZER;CN="Christian%20County%20Newcomers%20%26amp%3B%20Neighbors":MAILTO:HoptownNewcomers@hotmail.com
END:VEVENT
BEGIN:VEVENT
DTSTART;TZID=America/Chicago:20230112T100000
DTEND;TZID=America/Chicago:20230112T110000
DTSTAMP:20260423T022612
CREATED:20230103T155232Z
LAST-MODIFIED:20230103T155232Z
UID:217773-1673517600-1673521200@www.wkdzradio.com
SUMMARY:Pregnancy Fitness Group Class
DESCRIPTION:Are you curious what Alpha’s Earn While You Learn program is all about? Come for one of our in-person classes on January 12 and see for yourself!\nAlpha Pregnancy Care Center 500 North Main Street\, Hopkinsville\, KY
URL:https://www.wkdzradio.com/event/pregnancy-fitness-group-class/
CATEGORIES:Community Calendar
END:VEVENT
BEGIN:VEVENT
DTSTART;VALUE=DATE:20230113
DTEND;VALUE=DATE:20230114
DTSTAMP:20260423T022612
CREATED:20230103T132234Z
LAST-MODIFIED:20230103T132234Z
UID:217735-1673568000-1673654399@www.wkdzradio.com
SUMMARY:Trigg Co Fishing Team Fundraiser
DESCRIPTION:Order by January 13th\nPick up January 28th
URL:https://www.wkdzradio.com/event/trigg-co-fishing-team-fundraiser/
CATEGORIES:Community Calendar
END:VEVENT
BEGIN:VEVENT
DTSTART;TZID=America/Chicago:20230113T140000
DTEND;TZID=America/Chicago:20230113T150000
DTSTAMP:20260423T022612
CREATED:20230108T135007Z
LAST-MODIFIED:20230108T135007Z
UID:218202-1673618400-1673622000@www.wkdzradio.com
SUMMARY:10 Warning Signs of Alzheimer's and Strategies For An Effective Doctor's Visit
DESCRIPTION:Please join the Alzheimer’s Association & Angels Home Care Home Health on Friday January 13th from 2pm – 3pm CST for a FREE virtual program over the 10 Warning Signs of Alzheimer’s and Strategies For An Effective Doctor’s Visit. As we and our families visit this doctor this year it is important to be able to recognize the difference in normal aging & Alzheimer’s disease as well as being able to maximize our visit with our doctor. Join us as we discuss these and other important topics surrounding this issue.
URL:https://www.wkdzradio.com/event/10-warning-signs-of-alzheimers-and-strategies-for-an-effective-doctors-visit/
CATEGORIES:Community Calendar
END:VEVENT
BEGIN:VEVENT
DTSTART;TZID=America/Chicago:20230114T090000
DTEND;TZID=America/Chicago:20230114T100000
DTSTAMP:20260423T022612
CREATED:20230109T122750Z
LAST-MODIFIED:20230109T122750Z
UID:218285-1673686800-1673690400@www.wkdzradio.com
SUMMARY:Monthly Food Distribution
DESCRIPTION:At the Western Ky State Fair Grounds\nChristian CO Residents
URL:https://www.wkdzradio.com/event/monthly-food-distribution/
CATEGORIES:Community Calendar
END:VEVENT
BEGIN:VEVENT
DTSTART;TZID=America/Chicago:20230114T100000
DTEND;TZID=America/Chicago:20230114T110000
DTSTAMP:20260423T022612
CREATED:20230103T153622Z
LAST-MODIFIED:20230103T153622Z
UID:217745-1673690400-1673694000@www.wkdzradio.com
SUMMARY:Storytime at Hopkinsville Christian Co Public Library
DESCRIPTION:This is an opportunity for working parents to participate with their little ones at Storytime\, and enjoy good books\, dancing\, singing\, and a craft.\nThis is meant for the 0-5 age group. Older children may participate\, however\, preference will be given to children ages 0-5\, this includes manipulatives and craft materials.
URL:https://www.wkdzradio.com/event/storytime-at-hopkinsville-christian-co-public-library/2023-01-14/
CATEGORIES:Community Calendar
ATTACH;FMTTYPE=image/jpeg:https://dehayf5mhw1h7.cloudfront.net/wp-content/uploads/sites/2352/2023/01/03153622/305059528_6087587401265136_2188519484727464515_n.jpg
END:VEVENT
BEGIN:VEVENT
DTSTART;TZID=America/Chicago:20230114T103000
DTEND;TZID=America/Chicago:20230114T130000
DTSTAMP:20260423T022612
CREATED:20221227T121420Z
LAST-MODIFIED:20221227T121420Z
UID:217180-1673692200-1673701200@www.wkdzradio.com
SUMMARY:Beyond The Basketball
DESCRIPTION:MEN2Be Inc presents:\nJanuary 14th\nChris Whitney\nChristian Co Middle School\n10:30-1PM\nFREE
URL:https://www.wkdzradio.com/event/beyond-the-basketball/
CATEGORIES:Community Calendar
ATTACH;FMTTYPE=image/jpeg:https://dehayf5mhw1h7.cloudfront.net/wp-content/uploads/sites/2352/2022/12/27121420/thumbnail_image0-e1672143248149.jpg
END:VEVENT
BEGIN:VEVENT
DTSTART;TZID=America/Chicago:20230114T130000
DTEND;TZID=America/Chicago:20230114T170000
DTSTAMP:20260423T022612
CREATED:20230111T122253Z
LAST-MODIFIED:20230111T122253Z
UID:218561-1673701200-1673715600@www.wkdzradio.com
SUMMARY:Night To Shine- Shopping Day!
DESCRIPTION:Must register.\nVisit hillcrestbc.net/nighttoshine to register as a buddy or honored guest!
URL:https://www.wkdzradio.com/event/night-to-shine-shopping-day/
CATEGORIES:Church News
ATTACH;FMTTYPE=image/jpeg:https://dehayf5mhw1h7.cloudfront.net/wp-content/uploads/sites/2352/2023/01/11122253/324082278_561080212545382_1418347340397075749_n.jpg
END:VEVENT
BEGIN:VEVENT
DTSTART;TZID=America/Chicago:20230114T150000
DTEND;TZID=America/Chicago:20230114T180000
DTSTAMP:20260423T022612
CREATED:20230110T145050Z
LAST-MODIFIED:20230110T145050Z
UID:218467-1673708400-1673719200@www.wkdzradio.com
SUMMARY:An Artistic Exploration of Guitars\,Nature & Woman
DESCRIPTION:An Artistic Exploration of Guitars\, Nature & Woman with artists Lynn Pesoat (Pee-Soat) and Marc Beeckman now through February 18th. Artist Reception is Saturday\, January 14th from 3-6. The public is encouraged to come and meet the artists\, view their work\, and enjoy live music. Music provided by L.J. Grandstaff\, Alonzo Pennington\, Tammie\, Sid\, and Bobby Harper
URL:https://www.wkdzradio.com/event/an-artistic-exploration-of-guitarsnature-woman/
CATEGORIES:Community Calendar
ATTACH;FMTTYPE=image/jpeg:https://dehayf5mhw1h7.cloudfront.net/wp-content/uploads/sites/2352/2018/04/26054210/Photo-Apr-28-6-01-54-PM.jpg
END:VEVENT
BEGIN:VEVENT
DTSTART;VALUE=DATE:20230115
DTEND;VALUE=DATE:20230201
DTSTAMP:20260423T022612
CREATED:20230115T132148Z
LAST-MODIFIED:20230115T132148Z
UID:219044-1673740800-1675209599@www.wkdzradio.com
SUMMARY:Quit NOW Kentucky
DESCRIPTION:Be tobacco FREE in 2023. See information below
URL:https://www.wkdzradio.com/event/quit-now-kentucky/
END:VEVENT
BEGIN:VEVENT
DTSTART;TZID=America/Chicago:20230115T150000
DTEND;TZID=America/Chicago:20230115T170000
DTSTAMP:20260423T022612
CREATED:20221227T131704Z
LAST-MODIFIED:20221227T131704Z
UID:217211-1673794800-1673802000@www.wkdzradio.com
SUMMARY:Selma (The Movie)
DESCRIPTION:January 15\, 2023 @ 3:00 pm\nAlhambra Theatre\nAlthough the Civil Rights Act of 1964 legally desegregated the South\, discrimination was still rampant in certain areas\, making it very difficult for Blacks to register to vote. In 1965\, an Alabama city became the battleground in the fight for suffrage. Despite violent opposition\, Dr. Martin Luther King Jr. (David Oyelowo) and his followers pressed forward on an epic march from Selma to Montgomery\, and their efforts culminated with President Lyndon Johnson signing the Voting Rights Act of 1965.
URL:https://www.wkdzradio.com/event/selma-the-movie/
CATEGORIES:Community Calendar
END:VEVENT
BEGIN:VEVENT
DTSTART;TZID=America/Chicago:20230115T173000
DTEND;TZID=America/Chicago:20230115T190000
DTSTAMP:20260423T022612
CREATED:20221213T173741Z
LAST-MODIFIED:20221213T173741Z
UID:215879-1673803800-1673809200@www.wkdzradio.com
SUMMARY:Griefshare at Hillcrest Baptist
DESCRIPTION:A new session of Griefshare will begin on January 15th for 13 weeks\, Sunday evenings from 5:30-7:00 in the Fellowship Hall at Hillcrest Baptist in Hopkinsville.\nIf you or someone you know need help on their grief walk\, please encourage them to come. This program has helped so many.\nFind out more information- call\, or text at 270-719-0640.\n 
URL:https://www.wkdzradio.com/event/griefshare-at-hillcrest-baptist/2023-01-15/
CATEGORIES:Church News
END:VEVENT
BEGIN:VEVENT
DTSTART;TZID=America/Chicago:20230116T080000
DTEND;TZID=America/Chicago:20230116T090000
DTSTAMP:20260423T022612
CREATED:20230109T155043Z
LAST-MODIFIED:20230109T155043Z
UID:218358-1673856000-1673859600@www.wkdzradio.com
SUMMARY:MLK Coat Drive
DESCRIPTION:Please bring a coat before the march and program on January 16th. Freedom Elementary 8-9AM\nSalvation Army representatives will be there to accept those donations and share with those in need.\n 
URL:https://www.wkdzradio.com/event/mlk-coat-drive/
CATEGORIES:Community Calendar
ATTACH;FMTTYPE=image/png:https://dehayf5mhw1h7.cloudfront.net/wp-content/uploads/sites/2352/2023/01/09155043/Image4-e1673279431663.png
END:VEVENT
BEGIN:VEVENT
DTSTART;TZID=America/Chicago:20230116T090000
DTEND;TZID=America/Chicago:20230116T110000
DTSTAMP:20260423T022612
CREATED:20230109T154730Z
LAST-MODIFIED:20230109T154730Z
UID:218357-1673859600-1673866800@www.wkdzradio.com
SUMMARY:2023 MLK March\, Program and School Challenge
DESCRIPTION:HRC and community partners present the 2023 MLK Day March & Program on Monday\, January 16 at Freedom Elementary School. The March will begin at 9:00 am and will end at Hopkinsville Community College’s Auditorium Building with a program to follow.\nThe school challenge will return and is sponsored by Tom Bell State Farm.\nJoin us as we celebrate the legacy of Dr. Martin Luther King\, Jr.
URL:https://www.wkdzradio.com/event/2023-mlk-march-program-and-school-challenge/
CATEGORIES:Community Calendar
ATTACH;FMTTYPE=image/png:https://dehayf5mhw1h7.cloudfront.net/wp-content/uploads/sites/2352/2023/01/26083540/Image3-e1673279121270.png
END:VEVENT
BEGIN:VEVENT
DTSTART;TZID=America/Chicago:20230116T100000
DTEND;TZID=America/Chicago:20230116T110000
DTSTAMP:20260423T022612
CREATED:20230103T132022Z
LAST-MODIFIED:20230103T132022Z
UID:217734-1673863200-1673866800@www.wkdzradio.com
SUMMARY:Martin Luther King\, Jr. March
DESCRIPTION:Genesis Express\, Inc. will sponsor their annual Martin Luther King\, Jr. march\non Monday January 16\, 2023\, at 10:00am.\nThe theme for this year’s march is “Together\, We All Win”.\nHigh School students Bianca Cunningham and Dasha Nsubuga Barnes will be the\nfeatured speakers. Bianca and Dasha are excited to share some refreshing incite\nas to what the future holds for Trigg Countians as we work\, play and grow\ntogether. They will also reflect on the importance of understanding “The\nDream” of Rev. Dr. Martin Luther King\, Jr.\nThe Pre-March program will begin at 10:00 am at the Renaissance\nAfter the program at the Renaissance Stage\, we will march down to the Cadiz\nCity Park for the second part of the program.\nThere will be no inside program\, nor will there be refreshments provided this\nyear. Other information will be presented later.\nPlease support our youth as they become more involved in public events in our\ncommunity.
URL:https://www.wkdzradio.com/event/martin-luther-king-jr-march-2/
CATEGORIES:Community Calendar
END:VEVENT
END:VCALENDAR